BEGIN:VCALENDAR
VERSION:2.0
PRODID:-//Missouri East Emmaus - ECPv6.15.12.2//NONSGML v1.0//EN
CALSCALE:GREGORIAN
METHOD:PUBLISH
X-WR-CALNAME:Missouri East Emmaus
X-ORIGINAL-URL:https://www.moemmaus.org
X-WR-CALDESC:Events for Missouri East Emmaus
REFRESH-INTERVAL;VALUE=DURATION:PT1H
X-Robots-Tag:noindex
X-PUBLISHED-TTL:PT1H
BEGIN:VTIMEZONE
TZID:America/Chicago
BEGIN:DAYLIGHT
TZOFFSETFROM:-0600
TZOFFSETTO:-0500
TZNAME:CDT
DTSTART:20250309T080000
END:DAYLIGHT
BEGIN:STANDARD
TZOFFSETFROM:-0500
TZOFFSETTO:-0600
TZNAME:CST
DTSTART:20251102T070000
END:STANDARD
BEGIN:DAYLIGHT
TZOFFSETFROM:-0600
TZOFFSETTO:-0500
TZNAME:CDT
DTSTART:20260308T080000
END:DAYLIGHT
BEGIN:STANDARD
TZOFFSETFROM:-0500
TZOFFSETTO:-0600
TZNAME:CST
DTSTART:20261101T070000
END:STANDARD
BEGIN:DAYLIGHT
TZOFFSETFROM:-0600
TZOFFSETTO:-0500
TZNAME:CDT
DTSTART:20270314T080000
END:DAYLIGHT
BEGIN:STANDARD
TZOFFSETFROM:-0500
TZOFFSETTO:-0600
TZNAME:CST
DTSTART:20271107T070000
END:STANDARD
END:VTIMEZONE
BEGIN:VEVENT
DTSTART;TZID=America/Chicago:20260423T180000
DTEND;TZID=America/Chicago:20260426T190000
DTSTAMP:20260424T074756
CREATED:20250726T141738Z
LAST-MODIFIED:20251102T195314Z
UID:6224-1776967200-1777230000@www.moemmaus.org
SUMMARY:Women's Walk - #181
DESCRIPTION:
URL:https://www.moemmaus.org/event/womens-walk-181/
LOCATION:High Hill Christian Camp\, 20 Camp Lane\, High Hill\, MO\, 63350\, United States
ORGANIZER;CN="Steve Wallace":MAILTO:kswallac@swbell.net
END:VEVENT
END:VCALENDAR